BEGIN:VCALENDAR
VERSION:2.0
PRODID:-//Movida de Altura//ES
BEGIN:VEVENT
UID:23359@movidadealtura.com
DTSTAMP:20260425T145841Z
DTSTART:20260425T083000
DTEND:20260425T093000
SUMMARY:Festival Wellness: música, movimiento, bienestar
DESCRIPTION:\\n\\nMás info: https://movidadealtura.com/varios/festival-wellness-musica-movimiento-bienestar/
LOCATION:Kids club Av. Montenegro
END:VEVENT
END:VCALENDAR