BEGIN:VCALENDAR
VERSION:2.0
PRODID:-//Movida de Altura//ES
BEGIN:VEVENT
UID:23316@movidadealtura.com
DTSTAMP:20260425T145735Z
DTSTART:20260430T210000
DTEND:20260430T220000
SUMMARY:Alboroto en Hidden
DESCRIPTION:\\n\\nMás info: https://movidadealtura.com/musica/alboroto-en-hidden/
LOCATION:Calle 8 #7871, Calacoto
END:VEVENT
END:VCALENDAR