BEGIN:VCALENDAR
VERSION:2.0
PRODID:-//Movida de Altura//ES
BEGIN:VEVENT
UID:23306@movidadealtura.com
DTSTAMP:20260425T145658Z
DTSTART:20260425T150000
DTEND:20260425T220000
SUMMARY:Adobe Rave
DESCRIPTION:\\n\\nMás info: https://movidadealtura.com/exposiciones/adobe-rave/
LOCATION:C. Genaro Sanjinés y Comercio, pasaje Kuljis
END:VEVENT
END:VCALENDAR