BEGIN:VCALENDAR
VERSION:2.0
PRODID:-//Movida de Altura//ES
BEGIN:VEVENT
UID:23303@movidadealtura.com
DTSTAMP:20260424T112241Z
DTSTART:20260425T180000
DTEND:20260425T190000
SUMMARY:Sala B estrena El príncipe de Nanawa
DESCRIPTION:\\n\\nMás info: https://movidadealtura.com/cine/sala-b-estrena-el-principe-de-nanawa/
LOCATION:c/México 1783
END:VEVENT
END:VCALENDAR