BEGIN:VCALENDAR
VERSION:2.0
PRODID:-//Movida de Altura//ES
BEGIN:VEVENT
UID:23289@movidadealtura.com
DTSTAMP:20260425T145857Z
DTSTART:20260430T190000
DTEND:20260430T200000
SUMMARY:Aida Pamela, desde Colombia, en vivo
DESCRIPTION:\\n\\nMás info: https://movidadealtura.com/musica/aida-pamela-desde-colombia-en-vivo/
LOCATION:C. Chichas Nº 1268 Z. Miraflores, cerca al Puente de Las Américas
END:VEVENT
END:VCALENDAR