BEGIN:VCALENDAR
VERSION:2.0
PRODID:-//Movida de Altura//ES
BEGIN:VEVENT
UID:23263@movidadealtura.com
DTSTAMP:20260424T112209Z
DTSTART:20260425T190000
DTEND:20260425T200000
SUMMARY:Cine debate boliviano
DESCRIPTION:\\n\\nMás info: https://movidadealtura.com/cine/cine-debate-boliviano/
LOCATION:Calle Jemio #1412 entre Casimiro Corrales y Saavedra
END:VEVENT
END:VCALENDAR