BEGIN:VCALENDAR
VERSION:2.0
PRODID:-//Movida de Altura//ES
BEGIN:VEVENT
UID:23255@movidadealtura.com
DTSTAMP:20260424T111120Z
DTSTART:20260424T220000
DTEND:20260424T230000
SUMMARY:Tributo al reggae latino en Hard Rock
DESCRIPTION:\\n\\nMás info: https://movidadealtura.com/musica/tributo-al-reggae-latino-en-hard-rock/
LOCATION:Calle 15 entre Sánchez Bustamante y Julio Patiño #8052, Calacoto
END:VEVENT
END:VCALENDAR