BEGIN:VCALENDAR
VERSION:2.0
PRODID:-//Movida de Altura//ES
BEGIN:VEVENT
UID:23236@movidadealtura.com
DTSTAMP:20260424T112209Z
DTSTART:20260423T160000
DTEND:20260423T170000
SUMMARY:Cartelera Cinemateca Boliviana – 23 al 29 de abril
DESCRIPTION:\\n\\nMás info: https://movidadealtura.com/cine/cartelera-cinemateca-boliviana-23-al-29-de-abril/
LOCATION:Calle Oscar Soria, esq. Rosendo Gutierrez #110
END:VEVENT
END:VCALENDAR