BEGIN:VCALENDAR
VERSION:2.0
PRODID:-//Movida de Altura//ES
BEGIN:VEVENT
UID:23227@movidadealtura.com
DTSTAMP:20260423T114118Z
DTSTART:20260424T180000
DTEND:20260424T190000
SUMMARY:Otoño Tardío en Sala B
DESCRIPTION:\\n\\nMás info: https://movidadealtura.com/cine/otono-tardio-en-sala-b/
LOCATION:Calle México #1783 a media cuadra del Coliseo Cerrado
END:VEVENT
END:VCALENDAR