BEGIN:VCALENDAR
VERSION:2.0
PRODID:-//Movida de Altura//ES
BEGIN:VEVENT
UID:23218@movidadealtura.com
DTSTAMP:20260423T113514Z
DTSTART:20260424T180000
DTEND:20260424T193000
SUMMARY:Club de lectura La Paz: introducción a la escritura distópica
DESCRIPTION:\\n\\nMás info: https://movidadealtura.com/cursos/club-de-lectura-la-paz-introduccion-a-la-escritura-distopica/
LOCATION:Meet
END:VEVENT
END:VCALENDAR