BEGIN:VCALENDAR
VERSION:2.0
PRODID:-//Movida de Altura//ES
BEGIN:VEVENT
UID:23207@movidadealtura.com
DTSTAMP:20260425T145806Z
DTSTART:20260430T130000
DTEND:20260430T140000
SUMMARY:Kumbia fest en El Alto
DESCRIPTION:\\n\\nMás info: https://movidadealtura.com/musica/kumbia-fest-en-el-alto/
LOCATION:Av. Juan Pablo II #505 (al lado del Polideportivo), El Alto
END:VEVENT
END:VCALENDAR