BEGIN:VCALENDAR
VERSION:2.0
PRODID:-//Movida de Altura//ES
BEGIN:VEVENT
UID:23202@movidadealtura.com
DTSTAMP:20260424T112412Z
DTSTART:20260426T163000
DTEND:20260426T173000
SUMMARY:Lo mejor de David Santalla en El Alto
DESCRIPTION:\\n\\nMás info: https://movidadealtura.com/teatro/lo-mejor-de-david-santalla-en-el-alto/
LOCATION:Centro Comercial Cinebol, Piso 1. Ciudad Satélite, El Alto
END:VEVENT
END:VCALENDAR