BEGIN:VCALENDAR
VERSION:2.0
PRODID:-//Movida de Altura//ES
BEGIN:VEVENT
UID:23191@movidadealtura.com
DTSTAMP:20260424T111120Z
DTSTART:20260426T100000
DTEND:20260426T110000
SUMMARY:Donde nace la danza, donde los sueños toman vida
DESCRIPTION:\\n\\nMás info: https://movidadealtura.com/danza/donde-nace-la-danza-donde-los-suenos-toman-vida/
LOCATION:Teatro Galpón, Estación Central del Teleférico Rojo
END:VEVENT
END:VCALENDAR