BEGIN:VCALENDAR
VERSION:2.0
PRODID:-//Movida de Altura//ES
BEGIN:VEVENT
UID:23188@movidadealtura.com
DTSTAMP:20260423T114108Z
DTSTART:20260425T200000
DTEND:20260425T210000
SUMMARY:Tributo a Rammstein
DESCRIPTION:\\n\\nMás info: https://movidadealtura.com/musica/tributo-a-rammstein/
LOCATION:Calle Batallón Sucre N°592, San Pedro
END:VEVENT
END:VCALENDAR