BEGIN:VCALENDAR
VERSION:2.0
PRODID:-//Movida de Altura//ES
BEGIN:VEVENT
UID:23172@movidadealtura.com
DTSTAMP:20260423T114335Z
DTSTART:20260424T220000
DTEND:20260424T230000
SUMMARY:Especial a Silvio: Mau Montero y Gabo Poma
DESCRIPTION:\\n\\nMás info: https://movidadealtura.com/musica/especial-a-silvio-mau-montero-y-gabo-poma/
LOCATION:Calle Linares 958 piso 2, entre Sagárnaga y Tarija
END:VEVENT
END:VCALENDAR