BEGIN:VCALENDAR
VERSION:2.0
PRODID:-//Movida de Altura//ES
BEGIN:VEVENT
UID:23169@movidadealtura.com
DTSTAMP:20260425T150010Z
DTSTART:20260430T000000
DTEND:20260430T010000
SUMMARY:Exit 8, de Kotake Create en la Cinemateca
DESCRIPTION:\\n\\nMás info: https://movidadealtura.com/cine/exit-8-de-kotake-create-en-la-cinemateca/
LOCATION:Calle Oscar Soria, esq. Rosendo Gutiérrez
END:VEVENT
END:VCALENDAR