BEGIN:VCALENDAR
VERSION:2.0
PRODID:-//Movida de Altura//ES
BEGIN:VEVENT
UID:23157@movidadealtura.com
DTSTAMP:20260424T112209Z
DTSTART:20260423T000000
DTEND:20260423T010000
SUMMARY:Cartelera Multicine – 23 al 29 de abril
DESCRIPTION:\\n\\nMás info: https://movidadealtura.com/cine/cartelera-multicine-23-al-29-de-abril/
LOCATION:Av. Arce, San Jorge y Av. Juan Pablo II, Río Seco
END:VEVENT
END:VCALENDAR