BEGIN:VCALENDAR
VERSION:2.0
PRODID:-//Movida de Altura//ES
BEGIN:VEVENT
UID:23149@movidadealtura.com
DTSTAMP:20260422T072158Z
DTSTART:20260423T200000
DTEND:20260423T210000
SUMMARY:Fractales: cine en el bar
DESCRIPTION:\\n\\nMás info: https://movidadealtura.com/cine/fractales-cine-en-el-bar/
LOCATION:Calle México #1783 a media cuadra del Coliseo Cerrado
END:VEVENT
END:VCALENDAR