BEGIN:VCALENDAR
VERSION:2.0
PRODID:-//Movida de Altura//ES
BEGIN:VEVENT
UID:23130@movidadealtura.com
DTSTAMP:20260422T071936Z
DTSTART:20260425T213000
DTEND:20260425T223000
SUMMARY:The best of Eric Clapton
DESCRIPTION:\\n\\nMás info: https://movidadealtura.com/musica/the-best-of-eric-clapton/
LOCATION:Final avenida 6 de Agosto, Zona San Jorge
END:VEVENT
END:VCALENDAR