BEGIN:VCALENDAR
VERSION:2.0
PRODID:-//Movida de Altura//ES
BEGIN:VEVENT
UID:23126@movidadealtura.com
DTSTAMP:20260422T055743Z
DTSTART:20260425T203000
DTEND:20260425T213000
SUMMARY:PXNDX, Kudai y Airbag: tributo
DESCRIPTION:\\n\\nMás info: https://movidadealtura.com/musica/pxndx-kudai-y-airbag-tributo/
LOCATION:Calle Ingavi #681
END:VEVENT
END:VCALENDAR