BEGIN:VCALENDAR
VERSION:2.0
PRODID:-//Movida de Altura//ES
BEGIN:VEVENT
UID:23123@movidadealtura.com
DTSTAMP:20260422T055452Z
DTSTART:20260425T200000
DTEND:20260425T210000
SUMMARY:Tributo a Queen
DESCRIPTION:\\n\\nMás info: https://movidadealtura.com/musica/tributo-a-queen/
LOCATION:Melchor Jiménez #760
END:VEVENT
END:VCALENDAR