BEGIN:VCALENDAR
VERSION:2.0
PRODID:-//Movida de Altura//ES
BEGIN:VEVENT
UID:23120@movidadealtura.com
DTSTAMP:20260422T041621Z
DTSTART:20260424T213000
DTEND:20260424T223000
SUMMARY:Moonshine Power Blues
DESCRIPTION:\\n\\nMás info: https://movidadealtura.com/musica/moonshine-power-blues/
LOCATION:Final avenida 6 de Agosto, Zona San Jorge
END:VEVENT
END:VCALENDAR