BEGIN:VCALENDAR
VERSION:2.0
PRODID:-//Movida de Altura//ES
BEGIN:VEVENT
UID:23117@movidadealtura.com
DTSTAMP:20260422T042322Z
DTSTART:20260424T200000
DTEND:20260424T210000
SUMMARY:Concierto de guitarra clásica
DESCRIPTION:\\n\\nMás info: https://movidadealtura.com/musica/concierto-de-guitarra-clasica-3/
LOCATION:Sala de conciertos \"Eduardo Caba\", Calle Reyes Ortiz #56
END:VEVENT
END:VCALENDAR