BEGIN:VCALENDAR
VERSION:2.0
PRODID:-//Movida de Altura//ES
BEGIN:VEVENT
UID:23114@movidadealtura.com
DTSTAMP:20260422T042440Z
DTSTART:20260424T170000
DTEND:20260424T180000
SUMMARY:The Tell-Tale Heart
DESCRIPTION:\\n\\nMás info: https://movidadealtura.com/varios/the-tell-tale-heart/
LOCATION:
END:VEVENT
END:VCALENDAR