BEGIN:VCALENDAR
VERSION:2.0
PRODID:-//Movida de Altura//ES
BEGIN:VEVENT
UID:23111@movidadealtura.com
DTSTAMP:20260422T041831Z
DTSTART:20260423T213000
DTEND:20260423T223000
SUMMARY:Organ Trío
DESCRIPTION:\\n\\nMás info: https://movidadealtura.com/musica/organ-trio/
LOCATION:Final avenida 6 de Agosto, Zona San Jorge
END:VEVENT
END:VCALENDAR