BEGIN:VCALENDAR
VERSION:2.0
PRODID:-//Movida de Altura//ES
BEGIN:VEVENT
UID:23100@movidadealtura.com
DTSTAMP:20260422T042440Z
DTSTART:20260424T200000
DTEND:20260424T210000
SUMMARY:Tributo a Soda Stereo
DESCRIPTION:\\n\\nMás info: https://movidadealtura.com/musica/tributo-a-soda-stereo-2/
LOCATION:Melchor Jiménez #760
END:VEVENT
END:VCALENDAR