BEGIN:VCALENDAR
VERSION:2.0
PRODID:-//Movida de Altura//ES
BEGIN:VEVENT
UID:23096@movidadealtura.com
DTSTAMP:20260422T041621Z
DTSTART:20260424T180000
DTEND:20260424T190000
SUMMARY:Patitas.exe Coffee Rave en Etno
DESCRIPTION:\\n\\nMás info: https://movidadealtura.com/varios/patitas-exe-coffee-rave-en-etno/
LOCATION:Calle Jaen #765 frente a la casa de Murillo
END:VEVENT
END:VCALENDAR