BEGIN:VCALENDAR
VERSION:2.0
PRODID:-//Movida de Altura//ES
BEGIN:VEVENT
UID:23079@movidadealtura.com
DTSTAMP:20260421T192218Z
DTSTART:20260425T220000
DTEND:20260425T230000
SUMMARY:Thunder Phoenix en Mestizo Cultural
DESCRIPTION:\\n\\nMás info: https://movidadealtura.com/musica/thunder-phoenix-en-mestizo-cultural/
LOCATION:Bolívar 771 entre Indaburo y Av. Sucre
END:VEVENT
END:VCALENDAR