BEGIN:VCALENDAR
VERSION:2.0
PRODID:-//Movida de Altura//ES
BEGIN:VEVENT
UID:23076@movidadealtura.com
DTSTAMP:20260421T192016Z
DTSTART:20260425T200000
DTEND:20260425T210000
SUMMARY:Malhumorados Vol. 1: comedia en vivo
DESCRIPTION:\\n\\nMás info: https://movidadealtura.com/stand-up/malhumorados-vol-1-comedia-en-vivo/
LOCATION:Sopocachi Av. Ecuador esq. Belisario Salinas Nº 2496 Edificio San Felipe
END:VEVENT
END:VCALENDAR