BEGIN:VCALENDAR
VERSION:2.0
PRODID:-//Movida de Altura//ES
BEGIN:VEVENT
UID:23072@movidadealtura.com
DTSTAMP:20260421T192026Z
DTSTART:20260424T190000
DTEND:20260424T200000
SUMMARY:Drácula, comedia romántica
DESCRIPTION:\\n\\nMás info: https://movidadealtura.com/teatro/dracula-comedia-romantica/
LOCATION:Teatro Doña Albina, Av. Ecuador 2503 esq. Belisario Salinas
END:VEVENT
END:VCALENDAR