BEGIN:VCALENDAR
VERSION:2.0
PRODID:-//Movida de Altura//ES
BEGIN:VEVENT
UID:23041@movidadealtura.com
DTSTAMP:20260421T140602Z
DTSTART:20260425T190000
DTEND:20260425T200000
SUMMARY:After Image en la mejor película del mundo
DESCRIPTION:\\n\\nMás info: https://movidadealtura.com/cine/after-image-en-la-mejor-pelicula-del-mundo/
LOCATION:Calle Oscar Soria, esq. Rosendo Gutiérrez
END:VEVENT
END:VCALENDAR