BEGIN:VCALENDAR
VERSION:2.0
PRODID:-//Movida de Altura//ES
BEGIN:VEVENT
UID:23032@movidadealtura.com
DTSTAMP:20260421T041847Z
DTSTART:20260422T190000
DTEND:20260422T200000
SUMMARY:Ecos del nevado: exposición retrospectiva
DESCRIPTION:\\n\\nMás info: https://movidadealtura.com/exposiciones/ecos-del-nevado-exposicion-retrospectiva/
LOCATION:Calle Comercio esq. Socabaya
END:VEVENT
END:VCALENDAR