BEGIN:VCALENDAR
VERSION:2.0
PRODID:-//Movida de Altura//ES
BEGIN:VEVENT
UID:22986@movidadealtura.com
DTSTAMP:20260425T145651Z
DTSTART:20260430T000000
DTEND:20260430T010000
SUMMARY:Deambulantes en el Espacio Inni
DESCRIPTION:\\n\\nMás info: https://movidadealtura.com/musica/deambulantes-en-el-espacio-inni/
LOCATION:Av. 6 de Agosto entre Pinilla y Pedro Salazar #2570
END:VEVENT
END:VCALENDAR