BEGIN:VCALENDAR
VERSION:2.0
PRODID:-//Movida de Altura//ES
BEGIN:VEVENT
UID:22983@movidadealtura.com
DTSTAMP:20260425T145641Z
DTSTART:20260430T190000
DTEND:20260430T200000
SUMMARY:La noche de la zamba en el Nuna
DESCRIPTION:\\n\\nMás info: https://movidadealtura.com/musica/la-noche-de-la-zamba-en-el-nuna/
LOCATION:Calle 21 de Calacoto #8509 (Parada Puma Katari)
END:VEVENT
END:VCALENDAR