BEGIN:VCALENDAR
VERSION:2.0
PRODID:-//Movida de Altura//ES
BEGIN:VEVENT
UID:22980@movidadealtura.com
DTSTAMP:20260424T111927Z
DTSTART:20260428T183000
DTEND:20260428T193000
SUMMARY:Homenaje a Mario Vargas Llosa
DESCRIPTION:\\n\\nMás info: https://movidadealtura.com/exposiciones/homenaje-a-mario-vargas-llosa/
LOCATION:Av. Ecuador esq. R. Gutiérrez
END:VEVENT
END:VCALENDAR