BEGIN:VCALENDAR
VERSION:2.0
PRODID:-//Movida de Altura//ES
BEGIN:VEVENT
UID:22977@movidadealtura.com
DTSTAMP:20260421T002546Z
DTSTART:20260424T223000
DTEND:20260424T233000
SUMMARY:Saldrez: tributo a Zoe y Mon Laferte
DESCRIPTION:\\n\\nMás info: https://movidadealtura.com/musica/saldrez-tributo-a-zoe-y-mon-laferte/
LOCATION:Calle Ingavi 681
END:VEVENT
END:VCALENDAR