BEGIN:VCALENDAR
VERSION:2.0
PRODID:-//Movida de Altura//ES
BEGIN:VEVENT
UID:22969@movidadealtura.com
DTSTAMP:20260421T002713Z
DTSTART:20260422T213000
DTEND:20260422T223000
SUMMARY:Jam session con Rodri Gómez
DESCRIPTION:\\n\\nMás info: https://movidadealtura.com/musica/jam-session-con-rodri-gomez/
LOCATION:Final avenida 6 de Agosto, Zona San Jorge
END:VEVENT
END:VCALENDAR