BEGIN:VCALENDAR
VERSION:2.0
PRODID:-//Movida de Altura//ES
BEGIN:VEVENT
UID:22966@movidadealtura.com
DTSTAMP:20260421T002413Z
DTSTART:20260422T190000
DTEND:20260422T200000
SUMMARY:Radio Cutipa en la Casa Marina Nuñez del Prado
DESCRIPTION:\\n\\nMás info: https://movidadealtura.com/musica/radio-cutipa-en-la-casa-marina-nunez-del-prado/
LOCATION:Avenida Ecuador Nº2034, final del túnel del Instituto Americano – Sopocachi
END:VEVENT
END:VCALENDAR