BEGIN:VCALENDAR
VERSION:2.0
PRODID:-//Movida de Altura//ES
BEGIN:VEVENT
UID:22960@movidadealtura.com
DTSTAMP:20260420T164946Z
DTSTART:20260421T190000
DTEND:20260421T200000
SUMMARY:Del libro a la pantalla: Las 13 rosas
DESCRIPTION:\\n\\nMás info: https://movidadealtura.com/cine/del-libro-a-la-pantalla-las-13-rosas/
LOCATION:Av. Camacho 1484
END:VEVENT
END:VCALENDAR