BEGIN:VCALENDAR
VERSION:2.0
PRODID:-//Movida de Altura//ES
BEGIN:VEVENT
UID:22959@movidadealtura.com
DTSTAMP:20260421T003110Z
DTSTART:20260422T190000
DTEND:20260422T200000
SUMMARY:Exposición «Habitar el asombro, la libertad de lo simple»
DESCRIPTION:\\n\\nMás info: https://movidadealtura.com/exposiciones/exposicion-habitar-el-asombro-la-libertad-de-lo-simple/
LOCATION:San Miguel, calle G.R. Moreno L19, esq. Jaime Mendoza, edif. Durán
END:VEVENT
END:VCALENDAR