BEGIN:VCALENDAR
VERSION:2.0
PRODID:-//Movida de Altura//ES
BEGIN:VEVENT
UID:22918@movidadealtura.com
DTSTAMP:20260421T140609Z
DTSTART:20260425T160000
DTEND:20260425T170000
SUMMARY:Miski, con Los Cirujas
DESCRIPTION:\\n\\nMás info: https://movidadealtura.com/teatro/miski-con-los-cirujas/
LOCATION:Teatro Doña Albina, Av. Ecuador 2503 esq. Belisario Salinas
END:VEVENT
END:VCALENDAR