BEGIN:VCALENDAR
VERSION:2.0
PRODID:-//Movida de Altura//ES
BEGIN:VEVENT
UID:22915@movidadealtura.com
DTSTAMP:20260421T140615Z
DTSTART:20260426T190000
DTEND:20260426T200000
SUMMARY:Más alla de las flores: concierto
DESCRIPTION:\\n\\nMás info: https://movidadealtura.com/musica/mas-alla-de-las-flores-concierto/
LOCATION:Calle 15 de Calacoto, Bosque Boulevard
END:VEVENT
END:VCALENDAR