BEGIN:VCALENDAR
VERSION:2.0
PRODID:-//Movida de Altura//ES
BEGIN:VEVENT
UID:22912@movidadealtura.com
DTSTAMP:20260421T140602Z
DTSTART:20260425T193000
DTEND:20260425T203000
SUMMARY:No hay un cementerio para mí
DESCRIPTION:\\n\\nMás info: https://movidadealtura.com/teatro/no-hay-un-cementerio-para-mi/
LOCATION:Av. 6 de agosto esq. Rosendo Gutiérrez
END:VEVENT
END:VCALENDAR