BEGIN:VCALENDAR
VERSION:2.0
PRODID:-//Movida de Altura//ES
BEGIN:VEVENT
UID:22909@movidadealtura.com
DTSTAMP:20260421T140525Z
DTSTART:20260425T190000
DTEND:20260425T200000
SUMMARY:Pepe Murillo y Los Chaskas
DESCRIPTION:\\n\\nMás info: https://movidadealtura.com/musica/pepe-murillo-y-los-chaskas/
LOCATION:Calle Socabaya 457
END:VEVENT
END:VCALENDAR