BEGIN:VCALENDAR
VERSION:2.0
PRODID:-//Movida de Altura//ES
BEGIN:VEVENT
UID:22903@movidadealtura.com
DTSTAMP:20260422T092513Z
DTSTART:20260418T203000
DTEND:20260418T213000
SUMMARY:Guitarreando con los Ponce
DESCRIPTION:\\n\\nMás info: https://movidadealtura.com/musica/guitarreando-con-los-ponce/
LOCATION:Sopocachi Av. Ecuador esq. Belisario Salinas Nº 2496 Edificio San Felipe
END:VEVENT
END:VCALENDAR