BEGIN:VCALENDAR
VERSION:2.0
PRODID:-//Movida de Altura//ES
BEGIN:VEVENT
UID:22899@movidadealtura.com
DTSTAMP:20260421T140439Z
DTSTART:20260425T160000
DTEND:20260425T170000
SUMMARY:Clase de flamenco con Marcos Jimenez
DESCRIPTION:\\n\\nMás info: https://movidadealtura.com/cursos/clase-de-flamenco-con-marcos-jimenez/
LOCATION:Calle 12 de Achumani #415
END:VEVENT
END:VCALENDAR