BEGIN:VCALENDAR
VERSION:2.0
PRODID:-//Movida de Altura//ES
BEGIN:VEVENT
UID:22893@movidadealtura.com
DTSTAMP:20260421T140609Z
DTSTART:20260425T190000
DTEND:20260425T200000
SUMMARY:Concierto de Surfistas del Sistema
DESCRIPTION:\\n\\nMás info: https://movidadealtura.com/musica/concierto-de-surfistas-del-sistema/
LOCATION:Av. 6 de Agosto entre Pinilla y Pedro Salazar #2570
END:VEVENT
END:VCALENDAR