BEGIN:VCALENDAR
VERSION:2.0
PRODID:-//Movida de Altura//ES
BEGIN:VEVENT
UID:22890@movidadealtura.com
DTSTAMP:20260421T002407Z
DTSTART:20260425T090000
DTEND:20260425T130000
SUMMARY:Reescribiendo a las Rabonas en El Búnker
DESCRIPTION:\\n\\nMás info: https://movidadealtura.com/cursos/reescribiendo-a-las-rabonas-en-el-bunker/
LOCATION:Av. Camacho #1484 entre Loayza y Bueno
END:VEVENT
END:VCALENDAR