BEGIN:VCALENDAR
VERSION:2.0
PRODID:-//Movida de Altura//ES
BEGIN:VEVENT
UID:22887@movidadealtura.com
DTSTAMP:20260421T140722Z
DTSTART:20260425T210000
DTEND:20260425T220000
SUMMARY:Frecuencia rebajada en Neotopía
DESCRIPTION:\\n\\nMás info: https://movidadealtura.com/musica/frecuencia-rebajada-en-neotopia/
LOCATION:Presbítero Medina #2526
END:VEVENT
END:VCALENDAR