BEGIN:VCALENDAR
VERSION:2.0
PRODID:-//Movida de Altura//ES
BEGIN:VEVENT
UID:22874@movidadealtura.com
DTSTAMP:20260421T140525Z
DTSTART:20260425T193000
DTEND:20260425T203000
SUMMARY:Soda Stereo sinfónico
DESCRIPTION:\\n\\nMás info: https://movidadealtura.com/musica/soda-stereo-sinfonico/
LOCATION:Av. 16 de julio, esq. Batallón Colorados, El Prado
END:VEVENT
END:VCALENDAR